BEGIN:VCALENDAR
PRODID:-//kirchenweb.ch gmbh//veranstaltungsausgabe v2.0//DE
VERSION:2.0
METHOD:PUBLISH
BEGIN:VEVENT
DTSTART:20241129T173000Z
DTEND:20241129T190000Z
LOCATION:Ref. Stadtkirche Lenzburg\, Poststrasse 1\, 5600 Lenzburg
TRANSP:OPAQUE
SEQUENCE:0
UID:3749-veranstaltung@kirche-lenzburg.ch
DTSTAMP:20241122T081757Z
DESCRIPTION:O. Messiaen "La Nativité du Seigneur" \n\nDer bekannte
  Orgelzyklus von Olivier Messiaen "La Nativité du Seigneur" erklingt in
  der Stadtkirche. Die neun Meditationen für Orgel werden von Susanne Doll
  (Basel) gespielt.\n \nEintritt frei\, Kollekte\n\n\n\nKontakt:
  planung.lenzburg@kirche-lenzburg.ch\n\nWeitere Infos:
  https://www.kirche-lenzburg.ch/veranstaltung/3749
SUMMARY:Orgelkonzert zum Advent: O. Messiaen "La Nativité du Seigneur"
PRIORITY:5
X-MICROSOFT-CDO-IMPORTANCE:1
CLASS:PUBLIC
END:VEVENT
END:VCALENDAR
