BEGIN:VCALENDAR
PRODID:-//kirchenweb.ch gmbh//veranstaltungsausgabe v2.0//DE
VERSION:2.0
METHOD:PUBLISH
BEGIN:VEVENT
DTSTART:20260428T120000Z
DTEND:20260428T140000Z
LOCATION:Kirchenzentrum Hendschiken\, Schulweg 12\, 5604 Hendschiken
TRANSP:OPAQUE
SEQUENCE:0
UID:6403-veranstaltung@kirche-lenzburg.ch
DTSTAMP:20260409T061148Z
DESCRIPTION:Die Stiftung Lebensfreude besucht uns an unserem
  Senioren-nachmittag. Sie fördert die Lebensfreude durch individuelle
  Besuche von speziell ausgebildeten Künstlern\, den Lebensfreude-Clowns.
  Freuen Sie sich auf einen geselligen Nachmittag. \n\nWer einen Fahrdienst
  wünscht\,  melde sich bitte bis am Freitag\, 24. April 2026 im
  Sekretariat der Kirchgemeinde\, Tel.-Nr. 062 885 60 40.\n\n\nKontakt:
  Susanne Ziegler\n\nWeitere Infos:
  https://www.kirche-lenzburg.ch/veranstaltung/6403
SUMMARY:Seniorennachmittag
PRIORITY:5
X-MICROSOFT-CDO-IMPORTANCE:1
CLASS:PUBLIC
END:VEVENT
END:VCALENDAR
