BEGIN:VCALENDAR
PRODID:-//kirchenweb.ch gmbh//veranstaltungsausgabe v2.0//DE
VERSION:2.0
METHOD:PUBLISH
BEGIN:VEVENT
DTSTART:20260624T160000Z
DTEND:20260624T170000Z
LOCATION:online\, \,
TRANSP:OPAQUE
SEQUENCE:0
UID:6429-veranstaltung@kirche-lenzburg.ch
DTSTAMP:20250402T153432Z
DESCRIPTION:Kontakt: Karin Rätzer\n\n\nWeitere Infos:
  https://www.kirche-lenzburg.ch/veranstaltung/6429
SUMMARY:CommuniApp-Gottesdienst
PRIORITY:5
X-MICROSOFT-CDO-IMPORTANCE:1
CLASS:PUBLIC
END:VEVENT
END:VCALENDAR
