BEGIN:VCALENDAR
PRODID:-//kirchenweb.ch gmbh//veranstaltungsausgabe v2.0//DE
VERSION:2.0
METHOD:PUBLISH
BEGIN:VEVENT
DTSTART:20260427T123000Z
DTEND:20260427T140000Z
LOCATION:Kirchenzentrum Hendschiken\, Schulweg 12\, 5604 Hendschiken
TRANSP:OPAQUE
SEQUENCE:0
UID:6544-veranstaltung@kirche-lenzburg.ch
DTSTAMP:20250516T161507Z
DESCRIPTION:Kontakt: Martin Domann\n\nWeitere Infos:
  https://www.kirche-lenzburg.ch/veranstaltung/6544
SUMMARY:Gesprächskreis
PRIORITY:5
X-MICROSOFT-CDO-IMPORTANCE:1
CLASS:PUBLIC
END:VEVENT
END:VCALENDAR
