BEGIN:VCALENDAR
PRODID:-//kirchenweb.ch gmbh//veranstaltungsausgabe v2.0//DE
VERSION:2.0
METHOD:PUBLISH
BEGIN:VEVENT
DTSTART:20260507T073000Z
DTEND:20260507T093000Z
LOCATION:Kirchgemeindehaus Lenzburg\, Zeughausstrasse 9\, 5600 Lenzburg
TRANSP:OPAQUE
SEQUENCE:0
UID:6976-veranstaltung@kirche-lenzburg.ch
DTSTAMP:20250707T061028Z
DESCRIPTION:Kontakt: Anastasiia Stahl\nElisabeth Bader\n\nWeitere Infos:
  https://www.kirche-lenzburg.ch/veranstaltung/6976
SUMMARY:Seniorenchor Probe
PRIORITY:5
X-MICROSOFT-CDO-IMPORTANCE:1
CLASS:PUBLIC
END:VEVENT
END:VCALENDAR
