BEGIN:VCALENDAR
PRODID:-//kirchenweb.ch gmbh//veranstaltungsausgabe v2.0//DE
VERSION:2.0
METHOD:PUBLISH
BEGIN:VEVENT
DTSTART;VALUE=DATE:20270210
DTEND;VALUE=DATE:20270211
LOCATION:Kirchgemeindehaus Lenzburg\, Zeughausstrasse 9\, 5600 Lenzburg
TRANSP:OPAQUE
SEQUENCE:0
UID:7021-veranstaltung@kirche-lenzburg.ch
DTSTAMP:20250731T110716Z
DESCRIPTION:Kontakt: Karin Rätzer\n\nWeitere Infos:
  https://www.kirche-lenzburg.ch/veranstaltung/7021
SUMMARY:prov. Reservation Rumpelchischte
PRIORITY:5
X-MICROSOFT-CDO-IMPORTANCE:1
CLASS:PUBLIC
END:VEVENT
END:VCALENDAR
