BEGIN:VCALENDAR
PRODID:-//kirchenweb.ch gmbh//veranstaltungsausgabe v2.0//DE
VERSION:2.0
METHOD:PUBLISH
BEGIN:VEVENT
DTSTART:20260419T081500Z
DTEND:20260419T091500Z
LOCATION:Ref. Stadtkirche Lenzburg\, Poststrasse 1\, 5600 Lenzburg
TRANSP:OPAQUE
SEQUENCE:0
UID:7257-veranstaltung@kirche-lenzburg.ch
DTSTAMP:20260410T122817Z
DESCRIPTION:Kontakt: Susanne Ziegler\n\nWeitere Infos:
  https://www.kirche-lenzburg.ch/veranstaltung/7257
SUMMARY:Gottesdienst
PRIORITY:5
X-MICROSOFT-CDO-IMPORTANCE:1
CLASS:PUBLIC
END:VEVENT
END:VCALENDAR
