BEGIN:VCALENDAR
PRODID:-//kirchenweb.ch gmbh//veranstaltungsausgabe v2.0//DE
VERSION:2.0
METHOD:PUBLISH
BEGIN:VEVENT
DTSTART:20260426T081500Z
DTEND:20260426T091500Z
LOCATION:Ref. Stadtkirche Lenzburg\, Poststrasse 1\, 5600 Lenzburg
TRANSP:OPAQUE
SEQUENCE:0
UID:7259-veranstaltung@kirche-lenzburg.ch
DTSTAMP:20260410T123029Z
DESCRIPTION:Nach 28 Jahren engagierten und segensreichen Wirkens in der
  reformierten Kirchgemeinde Lenzburg Hendschiken Othmarsingen
  verabschiedet sich Pfarrerin Susanne Ziegler aus dem regulären aktiven
  Pfarrdienst. Die Kirchgemeinde würdigt ihren langjährigen Einsatz in
  einem festlichen Gottesdienst.\n\nAn der Orgel spielt Anastasia Stahl und
  die Kinder des Basischors der Lenzburger Kantorei singen fröhliche
  Lieder unter der Leitung von Maija Gschwind. Durch den Gottesdienst
  führen Pfarrerin Susanne Ziegler und Vikarin Marie-Madeleine Minder. \n
 \nIm Anschluss an die Feier wird ein Apéro serviert und es besteht die
  Gelegenheit zu persönlichem Austausch.\n\n\n\nKontakt: Pfrn. Susanne
  Ziegler & Vikarin Marie-Madeleine Minder\n\nWeitere Infos:
  https://www.kirche-lenzburg.ch/veranstaltung/7259
SUMMARY:Gottesdienst zur Verabschiedung von Susanne Ziegler mit Apéro
PRIORITY:5
X-MICROSOFT-CDO-IMPORTANCE:1
CLASS:PUBLIC
END:VEVENT
END:VCALENDAR
