BEGIN:VCALENDAR
PRODID:-//kirchenweb.ch gmbh//veranstaltungsausgabe v2.0//DE
VERSION:2.0
METHOD:PUBLISH
BEGIN:VEVENT
DTSTART:20260510T080000Z
DTEND:20260510T090000Z
LOCATION:Ref. Kirche Othmarsingen\, Kirchrain 4\, 5504 Othmarsingen
TRANSP:OPAQUE
SEQUENCE:0
UID:7262-veranstaltung@kirche-lenzburg.ch
DTSTAMP:20260402T114638Z
DESCRIPTION:Kontakt: Karin Rätzer\n\nWeitere Infos:
  https://www.kirche-lenzburg.ch/veranstaltung/7262
SUMMARY:Gottesdienst am Muttertag mit Apéro
PRIORITY:5
X-MICROSOFT-CDO-IMPORTANCE:1
CLASS:PUBLIC
END:VEVENT
END:VCALENDAR
