BEGIN:VCALENDAR
PRODID:-//kirchenweb.ch gmbh//veranstaltungsausgabe v2.0//DE
VERSION:2.0
METHOD:PUBLISH
BEGIN:VEVENT
DTSTART:20260514T083000Z
DTEND:20260514T100000Z
LOCATION:Treffpunkt: Bushaltestelle "Berufsschule Lenzburg"\, \, 5600
  Lenzburg
TRANSP:OPAQUE
SEQUENCE:0
UID:7264-veranstaltung@kirche-lenzburg.ch
DTSTAMP:20260413T140614Z
DESCRIPTION:Der Gottesdienst besteht aus einer einstündigen Rundwanderung
  (ca. 2km) im flachen Gelände mit Momenten der Besinnung und Ruhe.\n\nDer
  Anlass findet bei jedem Wetter statt. Bitte entsprechende Kleidung
  tragen! \n\n\nKontakt: Martin Domann\n\nWeitere Infos:
  https://www.kirche-lenzburg.ch/veranstaltung/7264
SUMMARY:Auffahrt-Pilgergottesdienst
PRIORITY:5
X-MICROSOFT-CDO-IMPORTANCE:1
CLASS:PUBLIC
END:VEVENT
END:VCALENDAR
