BEGIN:VCALENDAR
PRODID:-//kirchenweb.ch gmbh//veranstaltungsausgabe v2.0//DE
VERSION:2.0
METHOD:PUBLISH
BEGIN:VEVENT
DTSTART:20260607T081500Z
DTEND:20260607T091500Z
LOCATION:Ref. Stadtkirche Lenzburg\, Poststrasse 1\, 5600 Lenzburg
TRANSP:OPAQUE
SEQUENCE:0
UID:7269-veranstaltung@kirche-lenzburg.ch
DTSTAMP:20251121T223717Z
DESCRIPTION:Kontakt: Karin Rätzer\n\nWeitere Infos:
  https://www.kirche-lenzburg.ch/veranstaltung/7269
SUMMARY:Tauf-Gottesdienst mit den 3. Klässlern\, mit Apéro
PRIORITY:5
X-MICROSOFT-CDO-IMPORTANCE:1
CLASS:PUBLIC
END:VEVENT
END:VCALENDAR
