BEGIN:VCALENDAR
PRODID:-//kirchenweb.ch gmbh//veranstaltungsausgabe v2.0//DE
VERSION:2.0
METHOD:PUBLISH
BEGIN:VEVENT
DTSTART:20260628T080000Z
DTEND:20260628T090000Z
LOCATION:Kirchenzentrum Hendschiken\, Schulweg 12\, 5604 Hendschiken
TRANSP:OPAQUE
SEQUENCE:0
UID:7274-veranstaltung@kirche-lenzburg.ch
DTSTAMP:20260402T115747Z
DESCRIPTION:Kontakt: Raphael Bachmann\n\nWeitere Infos:
  https://www.kirche-lenzburg.ch/veranstaltung/7274
SUMMARY:Sandwichevent - Familiengottesdienst
PRIORITY:5
X-MICROSOFT-CDO-IMPORTANCE:1
CLASS:PUBLIC
END:VEVENT
END:VCALENDAR
