BEGIN:VCALENDAR
PRODID:-//kirchenweb.ch gmbh//veranstaltungsausgabe v2.0//DE
VERSION:2.0
METHOD:PUBLISH
BEGIN:VEVENT
DTSTART:20260808T151500Z
DTEND:20260808T170000Z
LOCATION:Ref. Stadtkirche Lenzburg\, Poststrasse 1\, 5600 Lenzburg
TRANSP:OPAQUE
SEQUENCE:0
UID:7284-veranstaltung@kirche-lenzburg.ch
DTSTAMP:20260330T042137Z
DESCRIPTION:Kontakt: planung.lenzburg@kirche-lenzburg.ch\n\nWeitere Infos:
  https://www.kirche-lenzburg.ch/veranstaltung/7284
SUMMARY:Orgelkonzerte zum Wochenende: Christian Barthen (Berner Münster)
PRIORITY:5
X-MICROSOFT-CDO-IMPORTANCE:1
CLASS:PUBLIC
END:VEVENT
END:VCALENDAR
