BEGIN:VCALENDAR
PRODID:-//kirchenweb.ch gmbh//veranstaltungsausgabe v2.0//DE
VERSION:2.0
METHOD:PUBLISH
BEGIN:VEVENT
DTSTART:20260809T090000Z
DTEND:20260809T100000Z
LOCATION:Kirchgemeindehaus Lenzburg\, Zeughausstrasse 9\, 5600 Lenzburg
TRANSP:OPAQUE
SEQUENCE:0
UID:7320-veranstaltung@kirche-lenzburg.ch
DTSTAMP:20260402T130630Z
DESCRIPTION:Kontakt: Karin Rätzer\n\nWeitere Infos:
  https://www.kirche-lenzburg.ch/veranstaltung/7320
SUMMARY:Schulanfang-Gottesdienst mit Zmittag
PRIORITY:5
X-MICROSOFT-CDO-IMPORTANCE:1
CLASS:PUBLIC
END:VEVENT
END:VCALENDAR
