BEGIN:VCALENDAR
PRODID:-//kirchenweb.ch gmbh//veranstaltungsausgabe v2.0//DE
VERSION:2.0
METHOD:PUBLISH
BEGIN:VEVENT
DTSTART:20260906T083000Z
DTEND:20260906T093000Z
LOCATION:Ref. Kirche Othmarsingen\, Kirchrain 4\, 5504 Othmarsingen
TRANSP:OPAQUE
SEQUENCE:0
UID:7326-veranstaltung@kirche-lenzburg.ch
DTSTAMP:20260402T130832Z
DESCRIPTION:Kontakt: Raphael Bachmann\n\nWeitere Infos:
  https://www.kirche-lenzburg.ch/veranstaltung/7326
SUMMARY:Gottesdienst mit Zmittag (Gemeindesonntag)
PRIORITY:5
X-MICROSOFT-CDO-IMPORTANCE:1
CLASS:PUBLIC
END:VEVENT
END:VCALENDAR
