BEGIN:VCALENDAR
PRODID:-//kirchenweb.ch gmbh//veranstaltungsausgabe v2.0//DE
VERSION:2.0
METHOD:PUBLISH
BEGIN:VEVENT
DTSTART:20261018T150000Z
DTEND:20261018T160000Z
LOCATION:Ref. Kirche Othmarsingen\, Kirchrain 4\, 5504 Othmarsingen
TRANSP:OPAQUE
SEQUENCE:0
UID:7336-veranstaltung@kirche-lenzburg.ch
DTSTAMP:20260402T131357Z
DESCRIPTION:Kontakt: Raphael Bachmann und\nKarin Rätzer\n\nWeitere Infos:
  https://www.kirche-lenzburg.ch/veranstaltung/7336
SUMMARY:Jubiläums-Gottesdienst Konfirmation 2016-2026 mit Apéro
PRIORITY:5
X-MICROSOFT-CDO-IMPORTANCE:1
CLASS:PUBLIC
END:VEVENT
END:VCALENDAR
