BEGIN:VCALENDAR
PRODID:-//kirchenweb.ch gmbh//veranstaltungsausgabe v2.0//DE
VERSION:2.0
METHOD:PUBLISH
BEGIN:VEVENT
DTSTART:20260617T074500Z
DTEND:20260617T081500Z
LOCATION:Ref. Stadtkirche Lenzburg\, Poststrasse 1\, 5600 Lenzburg
TRANSP:OPAQUE
SEQUENCE:0
UID:7567-veranstaltung@kirche-lenzburg.ch
DTSTAMP:20251105T051343Z
DESCRIPTION:Ökumenischer Gottesdienst in der katholischen oder
  reformierten Kirche Lenzburg. Für Kinder von 0 bis 6 Jahren mit
  Begleitperson.\n\nKontakt: Stephanie Burkhart\n\nWeitere Infos:
  https://www.kirche-lenzburg.ch/veranstaltung/7567
SUMMARY:Fiire mit de Chliine
PRIORITY:5
X-MICROSOFT-CDO-IMPORTANCE:1
CLASS:PUBLIC
END:VEVENT
END:VCALENDAR
