BEGIN:VCALENDAR
PRODID:-//kirchenweb.ch gmbh//veranstaltungsausgabe v2.0//DE
VERSION:2.0
METHOD:PUBLISH
BEGIN:VEVENT
DTSTART:20260711T151500Z
DTEND:20260711T161500Z
LOCATION:Ref. Stadtkirche Lenzburg\, Poststrasse 1\, 5600 Lenzburg
TRANSP:OPAQUE
SEQUENCE:0
UID:7590-veranstaltung@kirche-lenzburg.ch
DTSTAMP:20260330T082149Z
DESCRIPTION:Wenn die Katze Boléro tanzt\nAndreas Jud\, Orgel\n\nWir
  begrüssen den ehemaligen Hauptorganisten der Stadtkirche Lenzburg und
  freuen uns auf ein Wiederhören. Er hat sich für ein Programm
  entschieden\, das Tiere und Tänze im Fokus hat. Die Katze erscheint in
  der Katzen-Suite von Bédard\, der Boléro ertönt bei Bovet und
  Lefébure-Wély.\n\nIn der festlich geschmückten Stadtkirche erklingen
  Werke von D. Bédard\, J. Bovet\,\nM. Bösch-Schildknecht\, L.
  Lefébure-Wely\, G. Macchia und A. Willscher.\n\nKontakt:
  lisa.wilsch@kirche-lenzburg.ch\n\nWeitere Infos:
  https://www.kirche-lenzburg.ch/veranstaltung/7590
SUMMARY:Orgelkonzert zum Jugendfest (Ökumenisches Forum Kultur)
PRIORITY:5
X-MICROSOFT-CDO-IMPORTANCE:1
CLASS:PUBLIC
END:VEVENT
END:VCALENDAR
