BEGIN:VCALENDAR
PRODID:-//kirchenweb.ch gmbh//veranstaltungsausgabe v2.0//DE
VERSION:2.0
METHOD:PUBLISH
BEGIN:VEVENT
DTSTART:20260927T150000Z
DTEND:20260927T160000Z
LOCATION:Kirchgemeindehaus Lenzburg\, Zeughausstrasse 9\, 5600 Lenzburg
TRANSP:OPAQUE
SEQUENCE:0
UID:7594-veranstaltung@kirche-lenzburg.ch
DTSTAMP:20260330T082217Z
DESCRIPTION:SOUVENIR SONORE\nChristian Kunz Saxophon\nYilan Zhao Klavier\n
 \nDer junge Saxophonist Christian Kunz\, aufgewachsen in Lenzburg\, freut
  sich\, wieder in seiner Heimatstadt auftreten zu dürfen. Neben seinem
  Master Studium an der Zürcher Hochschule der Künste in der
  Saxophonklasse von Professor Lars Mlekusch absolviert er viele Konzerte
  und Wettbewerbe im In- und Ausland. Er wird auf dem Klavier von der
  Chinesin Yilan Zhao begleitet\, welche mehrfach international
  preisgekrönt ist und 2022 ihr Solistendiplom an der Zürcher Hochschule
  der Künste abgeschlossen hat.\n\nSie präsentieren ein Programm mit
  beliebten Werken aus dem klassischen Repertoire von Claude Debussy\,
  Fernande Decruck und Sergej Prokofjew.\n\nKontakt: Margrit Müller\n
 \nWeitere Infos: https://www.kirche-lenzburg.ch/veranstaltung/7594
SUMMARY:Konzert "Souvenir Sonore" (Ökumenisches Forum Kultur)
PRIORITY:5
X-MICROSOFT-CDO-IMPORTANCE:1
CLASS:PUBLIC
END:VEVENT
END:VCALENDAR
