BEGIN:VCALENDAR
PRODID:-//kirchenweb.ch gmbh//veranstaltungsausgabe v2.0//DE
VERSION:2.0
METHOD:PUBLISH
BEGIN:VEVENT
DTSTART:20261115T160000Z
DTEND:20261115T170000Z
LOCATION:Ref. Stadtkirche Lenzburg\, Poststrasse 1\, 5600 Lenzburg
TRANSP:OPAQUE
SEQUENCE:0
UID:7595-veranstaltung@kirche-lenzburg.ch
DTSTAMP:20260330T082238Z
DESCRIPTION:ZWISCHEN LICHT UND MELANCHOLIE\nFestival Strings Chamber
  Players\n\nDie Festival Strings Chamber Players sind ein Ensemble\,
  welches seiner Leidenschaft der Kammermusik in verschiedenen Formationen
  von Duo bis Oktett nachgeht. Daniel Dodds\, Konzertmeister der Festival
  Strings Lucerne\, spielt zusammen mit Sylvia Zucker an der Viola und
  Alexander Kionke am Cello\, zwei Stimmführenden desselben Orchesters. Zu
  einem Streichquartett ergänzt werden die Chamber Players an diesem Abend
  durch die Geigerin Agata Lazarczyk. Auf dem Programm stehen Werke von
  W.A. Mozart\, Samuel Barber und Antonin Dvoˇrák. Lassen Sie sich vom
  ausdrucksstarken\, facettenreichen und virtuosen Spiel dieser Musiker
  verzaubern und geniessen Sie traumhafte Momente voller Leidenschaft und
  Hingabe zur Musik.\n\nKontakt: Margrit Müller\n\nWeitere Infos:
  https://www.kirche-lenzburg.ch/veranstaltung/7595
SUMMARY:Konzert "Zwischen Licht und Melancholie" (Ökumenisches Forum
  Kultur)
PRIORITY:5
X-MICROSOFT-CDO-IMPORTANCE:1
CLASS:PUBLIC
END:VEVENT
END:VCALENDAR
