BEGIN:VCALENDAR
PRODID:-//kirchenweb.ch gmbh//veranstaltungsausgabe v2.0//DE
VERSION:2.0
METHOD:PUBLISH
BEGIN:VEVENT
DTSTART:20260512T170000Z
DTEND:20260512T183000Z
LOCATION:Altes Pfarrhaus\, Hintere Kirchgasse 31\, 5600 Lenzburg
TRANSP:OPAQUE
SEQUENCE:0
UID:7598-veranstaltung@kirche-lenzburg.ch
DTSTAMP:20251113T135733Z
DESCRIPTION:Kontakt: Martin Domann\n\nWeitere Infos:
  https://www.kirche-lenzburg.ch/veranstaltung/7598
SUMMARY:Besuchsdienstgruppe
PRIORITY:5
X-MICROSOFT-CDO-IMPORTANCE:1
CLASS:PUBLIC
END:VEVENT
END:VCALENDAR
