BEGIN:VCALENDAR
PRODID:-//kirchenweb.ch gmbh//veranstaltungsausgabe v2.0//DE
VERSION:2.0
METHOD:PUBLISH
BEGIN:VEVENT
DTSTART:20260507T070000Z
DTEND:20260507T150000Z
LOCATION:Ausflug auf die Insel Schwanau\, \,
TRANSP:OPAQUE
SEQUENCE:0
UID:7625-veranstaltung@kirche-lenzburg.ch
DTSTAMP:20251119T055849Z
DESCRIPTION:mit Z'Mittagessen am Lauerzersee\nTreffpunkt und Abfahrtszeit
  wird noch bekannt gegeben!\n\nKontakt: Raphael Bachmann\n\nWeitere Infos:
  https://www.kirche-lenzburg.ch/veranstaltung/7625
SUMMARY:Treffen der Alleinstehenden
PRIORITY:5
X-MICROSOFT-CDO-IMPORTANCE:1
CLASS:PUBLIC
END:VEVENT
END:VCALENDAR
