BEGIN:VCALENDAR
PRODID:-//kirchenweb.ch gmbh//veranstaltungsausgabe v2.0//DE
VERSION:2.0
METHOD:PUBLISH
BEGIN:VEVENT
DTSTART:20260827T103000Z
DTEND:20260827T150000Z
LOCATION:Kirchgemeindehaus Othmarsingen \, Kirchrain 4\, 5504 Othmarsingen
TRANSP:OPAQUE
SEQUENCE:0
UID:7627-veranstaltung@kirche-lenzburg.ch
DTSTAMP:20251119T060839Z
DESCRIPTION:Bräteln im Pfarrgarten Othmarsingen\n(bei Schlechtwetter im
  Kirchgemeindehaus Hendschiken)\n\nKontakt: Raphael Bachmann
 \nMarie-Madeleine Minder\n\nWeitere Infos:
  https://www.kirche-lenzburg.ch/veranstaltung/7627
SUMMARY:Treffen der Alleinstehenden
PRIORITY:5
X-MICROSOFT-CDO-IMPORTANCE:1
CLASS:PUBLIC
END:VEVENT
END:VCALENDAR
