BEGIN:VCALENDAR
PRODID:-//kirchenweb.ch gmbh//veranstaltungsausgabe v2.0//DE
VERSION:2.0
METHOD:PUBLISH
BEGIN:VEVENT
DTSTART:20261029T130000Z
DTEND:20261029T160000Z
LOCATION:Kirchgemeindehaus Othmarsingen\, Kirchrain 4\, 5504 Othmarsingen
TRANSP:OPAQUE
SEQUENCE:0
UID:7628-veranstaltung@kirche-lenzburg.ch
DTSTAMP:20251119T061332Z
DESCRIPTION:Vorstellung und persönliches Kennenlernen von Pfarrerin
  Marie-Madeleine Minder\n\nKontakt: Raphael Bachmann\n\nWeitere Infos:
  https://www.kirche-lenzburg.ch/veranstaltung/7628
SUMMARY:Treffen der Alleinstehenden
PRIORITY:5
X-MICROSOFT-CDO-IMPORTANCE:1
CLASS:PUBLIC
END:VEVENT
END:VCALENDAR
