BEGIN:VCALENDAR
PRODID:-//kirchenweb.ch gmbh//veranstaltungsausgabe v2.0//DE
VERSION:2.0
METHOD:PUBLISH
BEGIN:VEVENT
DTSTART:20260505T100000Z
DTEND:20260505T113000Z
LOCATION:Kirchgemeindehaus Lenzburg\, Zeughausstrasse 9\, 5600 Lenzburg
TRANSP:OPAQUE
SEQUENCE:0
UID:7636-veranstaltung@kirche-lenzburg.ch
DTSTAMP:20251120T153309Z
DESCRIPTION:Neuanmeldungen sind jederzeit willkommen!\nBitte melden Sie
  sich im Sekretariat der Kirchgemeinde (Tel.-Nr. 062 885 60 40)\n\nIm
  Verhinderungsfalle bitten wir um telefonische Abmeldung im Sekretariat\,
  jeweils bis Freitag vor dem Seniorenessen bis 11.00 Uhr. Bei
  unentschuldigter Absenz müssen wir leider den Betrag von CHF 20.--
  verrechnen.\n\nKontakt: Sekretariat der Kirchgemeinde\n\n\nWeitere Infos:
  https://www.kirche-lenzburg.ch/veranstaltung/7636
SUMMARY:Seniorenessen
PRIORITY:5
X-MICROSOFT-CDO-IMPORTANCE:1
CLASS:PUBLIC
END:VEVENT
END:VCALENDAR
