BEGIN:VCALENDAR
PRODID:-//kirchenweb.ch gmbh//veranstaltungsausgabe v2.0//DE
VERSION:2.0
METHOD:PUBLISH
BEGIN:VEVENT
DTSTART:20260505T163000Z
DTEND:20260505T173000Z
LOCATION:Ref. Stadtkirche Lenzburg\, Poststrasse 1\, 5600 Lenzburg
TRANSP:OPAQUE
SEQUENCE:0
UID:7808-veranstaltung@kirche-lenzburg.ch
DTSTAMP:20251201T154208Z
DESCRIPTION:Wir sitzen auf der Empore in der Stadtkirche gemeinsam in der
  Stille.\n\nKontakt: Brigitte Eich\n\nWeitere Infos:
  https://www.kirche-lenzburg.ch/veranstaltung/7808
SUMMARY:Meditation im Alltag
PRIORITY:5
X-MICROSOFT-CDO-IMPORTANCE:1
CLASS:PUBLIC
END:VEVENT
END:VCALENDAR
