BEGIN:VCALENDAR
PRODID:-//kirchenweb.ch gmbh//veranstaltungsausgabe v2.0//DE
VERSION:2.0
METHOD:PUBLISH
BEGIN:VEVENT
DTSTART:20260430T043000Z
DTEND:20260430T050000Z
LOCATION:Kirchgemeindehaus Lenzburg\, Zeughausstrasse 9\, 5600 Lenzburg
TRANSP:OPAQUE
SEQUENCE:0
UID:7850-veranstaltung@kirche-lenzburg.ch
DTSTAMP:20251217T052650Z
DESCRIPTION:Kontakt: David Studer\n\nWeitere Infos:
  https://www.kirche-lenzburg.ch/veranstaltung/7850
SUMMARY:Morgengebet
PRIORITY:5
X-MICROSOFT-CDO-IMPORTANCE:1
CLASS:PUBLIC
END:VEVENT
END:VCALENDAR
