BEGIN:VCALENDAR
PRODID:-//kirchenweb.ch gmbh//veranstaltungsausgabe v2.0//DE
VERSION:2.0
METHOD:PUBLISH
BEGIN:VEVENT
DTSTART:20270124T080000Z
DTEND:20270124T090000Z
LOCATION:Kirchenzentrum Hendschiken\, Schulweg 12\, 5604 Hendschiken
TRANSP:OPAQUE
SEQUENCE:0
UID:8274-veranstaltung@kirche-lenzburg.ch
DTSTAMP:20260410T125031Z
DESCRIPTION:Kontakt: planung.lenzburg@kirche-lenzburg.ch\n\nWeitere Infos:
  https://www.kirche-lenzburg.ch/veranstaltung/8274
SUMMARY:KiK-Gottesdienst mit anschliessendem Fondue-Essen
PRIORITY:5
X-MICROSOFT-CDO-IMPORTANCE:1
CLASS:PUBLIC
END:VEVENT
END:VCALENDAR
