BEGIN:VCALENDAR
PRODID:-//kirchenweb.ch gmbh//veranstaltungsausgabe v2.0//DE
VERSION:2.0
METHOD:PUBLISH
BEGIN:VEVENT
DTSTART:20260912T070000Z
DTEND:20260912T090000Z
LOCATION:Kirchgemeindehaus Lenzburg\, Zeughausstrasse 9\, 5600 Lenzburg
TRANSP:OPAQUE
SEQUENCE:0
UID:8289-veranstaltung@kirche-lenzburg.ch
DTSTAMP:20260413T112517Z
DESCRIPTION:Kontakt: lisa.wilsch@kirche-lenzburg.ch\n\nWeitere Infos:
  https://www.kirche-lenzburg.ch/veranstaltung/8289
SUMMARY:KiK-Gschichte-Morge
PRIORITY:5
X-MICROSOFT-CDO-IMPORTANCE:1
CLASS:PUBLIC
END:VEVENT
END:VCALENDAR
