BEGIN:VCALENDAR
PRODID:-//kirchenweb.ch gmbh//veranstaltungsausgabe v2.0//DE
VERSION:2.0
METHOD:PUBLISH
BEGIN:VEVENT
DTSTART:20270310T130000Z
DTEND:20270310T150000Z
LOCATION:Lenzburg\, \, 5600 Lenzburg
TRANSP:OPAQUE
SEQUENCE:0
UID:8292-veranstaltung@kirche-lenzburg.ch
DTSTAMP:20260413T112726Z
DESCRIPTION:Vorbereitung für den Familiengottesdienst vom 14. März 2027
 \n\nKontakt: lisa.wilsch@kirche-lenzburg.ch\n\nWeitere Infos:
  https://www.kirche-lenzburg.ch/veranstaltung/8292
SUMMARY:KiK-Block
PRIORITY:5
X-MICROSOFT-CDO-IMPORTANCE:1
CLASS:PUBLIC
END:VEVENT
END:VCALENDAR
